BEGIN:VCALENDAR
VERSION:2.0
PRODID:-//Buffalo-NiagaraGardening.com - ECPv6.15.20//NONSGML v1.0//EN
CALSCALE:GREGORIAN
METHOD:PUBLISH
X-ORIGINAL-URL:https://buffalo-niagaragardening.com
X-WR-CALDESC:Events for Buffalo-NiagaraGardening.com
REFRESH-INTERVAL;VALUE=DURATION:PT1H
X-Robots-Tag:noindex
X-PUBLISHED-TTL:PT1H
BEGIN:VTIMEZONE
TZID:America/New_York
BEGIN:DAYLIGHT
TZOFFSETFROM:-0500
TZOFFSETTO:-0400
TZNAME:EDT
DTSTART:20250309T070000
END:DAYLIGHT
BEGIN:STANDARD
TZOFFSETFROM:-0400
TZOFFSETTO:-0500
TZNAME:EST
DTSTART:20251102T060000
END:STANDARD
BEGIN:DAYLIGHT
TZOFFSETFROM:-0500
TZOFFSETTO:-0400
TZNAME:EDT
DTSTART:20260308T070000
END:DAYLIGHT
BEGIN:STANDARD
TZOFFSETFROM:-0400
TZOFFSETTO:-0500
TZNAME:EST
DTSTART:20261101T060000
END:STANDARD
BEGIN:DAYLIGHT
TZOFFSETFROM:-0500
TZOFFSETTO:-0400
TZNAME:EDT
DTSTART:20270314T070000
END:DAYLIGHT
BEGIN:STANDARD
TZOFFSETFROM:-0400
TZOFFSETTO:-0500
TZNAME:EST
DTSTART:20271107T060000
END:STANDARD
END:VTIMEZONE
BEGIN:VEVENT
DTSTART;TZID=America/New_York:20260428T120000
DTEND;TZID=America/New_York:20260428T120000
DTSTAMP:20260420T090641
CREATED:20260420T010517Z
LAST-MODIFIED:20260420T011024Z
UID:10019048-1777377600-1777377600@buffalo-niagaragardening.com
SUMMARY:Hamburg House & Garden
DESCRIPTION:The Hamburg House and Garden Club will hold their monthly meeting at noon April 28 at the Hamburg Community Center\, 107 Prospect Ave.\, Hamburg The topic of discussion will be “How to Transition from a High to Low Maintenance Garden” given by Nina Saintz. This will be valuable as our busy lives don’t always allow for all the time we want in the garden. …  \n\n\nMembership Required\n\n You must be a member to access this content. \nView Membership Levels \n\nAlready a member? Log in here
URL:https://buffalo-niagaragardening.com/event/hamburg-house-garden/
LOCATION:Village of Hamburg Community Center\, 107 Prospect Ave.\, Hamburg\, New York\, 14075
CATEGORIES:Garden club meeting,Talks & presentations
END:VEVENT
BEGIN:VEVENT
DTSTART;TZID=America/New_York:20260526T120000
DTEND;TZID=America/New_York:20260526T120000
DTSTAMP:20260420T090641
CREATED:20260420T011454Z
LAST-MODIFIED:20260420T011455Z
UID:10019050-1779796800-1779796800@buffalo-niagaragardening.com
SUMMARY:Hamburg House & Garden
DESCRIPTION:The Hamburg House and Garden Club will hold their monthly meeting at noon May 26 at the Hamburg Community Center\, 107 Prospect Ave.\, Hamburg This month’s topic is “What is an Iris” with Marilee Farry. Take this opportunity to learn more about how to care and grow irises. Please feel free to join the meeting. …  \n\n\nMembership Required\n\n You must be a member to access this content. \nView Membership Levels \n\nAlready a member? Log in here
URL:https://buffalo-niagaragardening.com/event/hamburg-house-garden-3/
LOCATION:Village of Hamburg Community Center\, 107 Prospect Ave.\, Hamburg\, New York\, 14075
CATEGORIES:Garden club meeting,Talks & presentations
END:VEVENT
BEGIN:VEVENT
DTSTART;TZID=America/New_York:20260623T120000
DTEND;TZID=America/New_York:20260623T120000
DTSTAMP:20260420T090641
CREATED:20260420T010901Z
LAST-MODIFIED:20260420T011431Z
UID:10019049-1782216000-1782216000@buffalo-niagaragardening.com
SUMMARY:Hamburg House & Garden
DESCRIPTION:The Hamburg House and Garden Club will hold their monthly meeting at noon Tuesday\, June 23 at the Hamburg Community Center\, 107 Prospect Ave.\, Hamburg Donna Lipowitz will present a discussion on “Lovely Orchids.” Please feel free to join the meeting. …  \n\n\nMembership Required\n\n You must be a member to access this content. \nView Membership Levels \n\nAlready a member? Log in here
URL:https://buffalo-niagaragardening.com/event/hamburg-house-garden-2/
LOCATION:Village of Hamburg Community Center\, 107 Prospect Ave.\, Hamburg\, New York\, 14075
CATEGORIES:Garden club meeting,Talks & presentations
END:VEVENT
BEGIN:VEVENT
DTSTART;TZID=America/New_York:20260922T120000
DTEND;TZID=America/New_York:20260922T120000
DTSTAMP:20260420T090641
CREATED:20260420T011905Z
LAST-MODIFIED:20260420T011906Z
UID:10019051-1790078400-1790078400@buffalo-niagaragardening.com
SUMMARY:Hamburg House & Garden
DESCRIPTION:The Hamburg House and Garden Club will hold their monthly meeting at noon Tuesday\, September 22 at the Hamburg Community Center\, 107 Prospect Ave.\, Hamburg Beverly Kent will speak on “A Presentation on Roses.” Please feel free to join the meeting. …  \n\n\nMembership Required\n\n You must be a member to access this content. \nView Membership Levels \n\nAlready a member? Log in here
URL:https://buffalo-niagaragardening.com/event/hamburg-house-garden-4/
LOCATION:Village of Hamburg Community Center\, 107 Prospect Ave.\, Hamburg\, New York\, 14075
CATEGORIES:Garden club meeting,Talks & presentations
END:VEVENT
BEGIN:VEVENT
DTSTART;TZID=America/New_York:20261027T120000
DTEND;TZID=America/New_York:20261027T120000
DTSTAMP:20260420T090641
CREATED:20260420T012216Z
LAST-MODIFIED:20260420T012217Z
UID:10019052-1793102400-1793102400@buffalo-niagaragardening.com
SUMMARY:Hamburg House & Garden
DESCRIPTION:The Hamburg House and Garden Club will hold their monthly meeting at noon Tuesday\, October 27 at the Hamburg Community Center\, 107 Prospect Ave.\, Hamburg Jill Break will speak on “The Joys of Pickling.” Brush up on some old skills or learn some new ones. Please feel free to join the meeting. …  \n\n\nMembership Required\n\n You must be a member to access this content. \nView Membership Levels \n\nAlready a member? Log in here
URL:https://buffalo-niagaragardening.com/event/hamburg-house-garden-5/
LOCATION:Village of Hamburg Community Center\, 107 Prospect Ave.\, Hamburg\, New York\, 14075
CATEGORIES:Garden club meeting,Talks & presentations
END:VEVENT
END:VCALENDAR