BEGIN:VCALENDAR
VERSION:2.0
PRODID:-//Buffalo-NiagaraGardening.com - ECPv6.15.20//NONSGML v1.0//EN
CALSCALE:GREGORIAN
METHOD:PUBLISH
X-WR-CALNAME:Buffalo-NiagaraGardening.com
X-ORIGINAL-URL:https://buffalo-niagaragardening.com
X-WR-CALDESC:Events for Buffalo-NiagaraGardening.com
REFRESH-INTERVAL;VALUE=DURATION:PT1H
X-Robots-Tag:noindex
X-PUBLISHED-TTL:PT1H
BEGIN:VTIMEZONE
TZID:America/New_York
BEGIN:DAYLIGHT
TZOFFSETFROM:-0500
TZOFFSETTO:-0400
TZNAME:EDT
DTSTART:20250309T070000
END:DAYLIGHT
BEGIN:STANDARD
TZOFFSETFROM:-0400
TZOFFSETTO:-0500
TZNAME:EST
DTSTART:20251102T060000
END:STANDARD
BEGIN:DAYLIGHT
TZOFFSETFROM:-0500
TZOFFSETTO:-0400
TZNAME:EDT
DTSTART:20260308T070000
END:DAYLIGHT
BEGIN:STANDARD
TZOFFSETFROM:-0400
TZOFFSETTO:-0500
TZNAME:EST
DTSTART:20261101T060000
END:STANDARD
BEGIN:DAYLIGHT
TZOFFSETFROM:-0500
TZOFFSETTO:-0400
TZNAME:EDT
DTSTART:20270314T070000
END:DAYLIGHT
BEGIN:STANDARD
TZOFFSETFROM:-0400
TZOFFSETTO:-0500
TZNAME:EST
DTSTART:20271107T060000
END:STANDARD
END:VTIMEZONE
BEGIN:VEVENT
DTSTART;TZID=America/New_York:20260905T100000
DTEND;TZID=America/New_York:20260905T100000
DTSTAMP:20260421T044411
CREATED:20260216T131123Z
LAST-MODIFIED:20260216T131125Z
UID:10018870-1788602400-1788602400@buffalo-niagaragardening.com
SUMMARY:Master Your Garden Series - Functional Lawns
DESCRIPTION:Save the first Saturday of each month in 2026 for our monthly education series. This year\, the Master Your Garden series features a variety of topics for home gardeners of all abilities\, as well as others interested in horticulture. Each class begins at 10 a.m. and is held in the Orleans County Cornell Cooperative Extension Education Center\, 12690 State Route 31\, Albion. Suggested donation: $5. To register\, call (585) 798-4265 or email klo54@cornell.edu. Sept. 5: Functional Lawns Can lawns have flowers…  \n\n\nMembership Required\n\n You must be a member to access this content. \nView Membership Levels \n\nAlready a member? Log in here
URL:https://buffalo-niagaragardening.com/event/master-your-garden-series-functional-lawns-2/
LOCATION:Cornell Cooperative Extension Orleans County\, 12690 State Route 31\, Albion\, New York\, 14411
CATEGORIES:Classes,Crafts & floral design,Discussion,Talks & presentations
END:VEVENT
BEGIN:VEVENT
DTSTART;TZID=America/New_York:20260922T120000
DTEND;TZID=America/New_York:20260922T120000
DTSTAMP:20260421T044411
CREATED:20260420T011905Z
LAST-MODIFIED:20260420T011906Z
UID:10019051-1790078400-1790078400@buffalo-niagaragardening.com
SUMMARY:Hamburg House & Garden
DESCRIPTION:The Hamburg House and Garden Club will hold their monthly meeting at noon Tuesday\, September 22 at the Hamburg Community Center\, 107 Prospect Ave.\, Hamburg Beverly Kent will speak on “A Presentation on Roses.” Please feel free to join the meeting. …  \n\n\nMembership Required\n\n You must be a member to access this content. \nView Membership Levels \n\nAlready a member? Log in here
URL:https://buffalo-niagaragardening.com/event/hamburg-house-garden-4/
LOCATION:Village of Hamburg Community Center\, 107 Prospect Ave.\, Hamburg\, New York\, 14075
CATEGORIES:Garden club meeting,Talks & presentations
END:VEVENT
BEGIN:VEVENT
DTSTART;TZID=America/New_York:20261003T100000
DTEND;TZID=America/New_York:20261003T100000
DTSTAMP:20260421T044411
CREATED:20260215T203002Z
LAST-MODIFIED:20260215T203553Z
UID:10018868-1791021600-1791021600@buffalo-niagaragardening.com
SUMMARY:Master Your Garden Series - Garden & Landscape Photography
DESCRIPTION:Save the first Saturday of each month in 2026 for our monthly education series. This year\, the Master Your Garden series features a variety of topics for home gardeners of all abilities\, as well as others interested in horticulture. Each class begins at 10 a.m. and is held in the Orleans County Cornell Cooperative Extension Education Center\, 12690 State Route 31\, Albion. Suggested donation: $5. To register\, call (585) 798-4265 or email klo54@cornell.edu. This month the topic is using your unique…  \n\n\nMembership Required\n\n You must be a member to access this content. \nView Membership Levels \n\nAlready a member? Log in here
URL:https://buffalo-niagaragardening.com/event/master-your-garden-series-garden-landscape-photography/
LOCATION:Cornell Cooperative Extension Orleans County\, 12690 State Route 31\, Albion\, New York\, 14411
CATEGORIES:Art & photography,Classes,Discussion,Nature activities,Talks & presentations
END:VEVENT
BEGIN:VEVENT
DTSTART;TZID=America/New_York:20261027T120000
DTEND;TZID=America/New_York:20261027T120000
DTSTAMP:20260421T044411
CREATED:20260420T012216Z
LAST-MODIFIED:20260420T012217Z
UID:10019052-1793102400-1793102400@buffalo-niagaragardening.com
SUMMARY:Hamburg House & Garden
DESCRIPTION:The Hamburg House and Garden Club will hold their monthly meeting at noon Tuesday\, October 27 at the Hamburg Community Center\, 107 Prospect Ave.\, Hamburg Jill Break will speak on “The Joys of Pickling.” Brush up on some old skills or learn some new ones. Please feel free to join the meeting. …  \n\n\nMembership Required\n\n You must be a member to access this content. \nView Membership Levels \n\nAlready a member? Log in here
URL:https://buffalo-niagaragardening.com/event/hamburg-house-garden-5/
LOCATION:Village of Hamburg Community Center\, 107 Prospect Ave.\, Hamburg\, New York\, 14075
CATEGORIES:Garden club meeting,Talks & presentations
END:VEVENT
BEGIN:VEVENT
DTSTART;TZID=America/New_York:20261107T100000
DTEND;TZID=America/New_York:20261107T100000
DTSTAMP:20260421T044411
CREATED:20260215T202133Z
LAST-MODIFIED:20260215T202357Z
UID:10018869-1794045600-1794045600@buffalo-niagaragardening.com
SUMMARY:Master Your Garden Series - Sustainable Container Gardening
DESCRIPTION:Save the first Saturday of each month in 2026 for our monthly education series. This year\, the Master Your Garden series features a variety of topics for home gardeners of all abilities\, as well as others interested in horticulture. Each class begins at 10 a.m. and is held in the Orleans County Cornell Cooperative Extension Education Center\, 12690 State Route 31\, Albion. Suggested donation: $5. To register\, call (585) 798-4265 or email klo54@cornell.edu. This month the topic is sustainable container gardening….  \n\n\nMembership Required\n\n You must be a member to access this content. \nView Membership Levels \n\nAlready a member? Log in here
URL:https://buffalo-niagaragardening.com/event/master-your-garden-series-sustainable-container-gardening/
LOCATION:Cornell Cooperative Extension Orleans County\, 12690 State Route 31\, Albion\, New York\, 14411
CATEGORIES:Classes,Discussion,Talks & presentations
END:VEVENT
END:VCALENDAR