BEGIN:VCALENDAR
VERSION:2.0
PRODID:-//Buffalo-NiagaraGardening.com - ECPv6.15.20//NONSGML v1.0//EN
CALSCALE:GREGORIAN
METHOD:PUBLISH
X-WR-CALNAME:Buffalo-NiagaraGardening.com
X-ORIGINAL-URL:https://buffalo-niagaragardening.com
X-WR-CALDESC:Events for Buffalo-NiagaraGardening.com
REFRESH-INTERVAL;VALUE=DURATION:PT1H
X-Robots-Tag:noindex
X-PUBLISHED-TTL:PT1H
BEGIN:VTIMEZONE
TZID:America/New_York
BEGIN:DAYLIGHT
TZOFFSETFROM:-0500
TZOFFSETTO:-0400
TZNAME:EDT
DTSTART:20250309T070000
END:DAYLIGHT
BEGIN:STANDARD
TZOFFSETFROM:-0400
TZOFFSETTO:-0500
TZNAME:EST
DTSTART:20251102T060000
END:STANDARD
BEGIN:DAYLIGHT
TZOFFSETFROM:-0500
TZOFFSETTO:-0400
TZNAME:EDT
DTSTART:20260308T070000
END:DAYLIGHT
BEGIN:STANDARD
TZOFFSETFROM:-0400
TZOFFSETTO:-0500
TZNAME:EST
DTSTART:20261101T060000
END:STANDARD
BEGIN:DAYLIGHT
TZOFFSETFROM:-0500
TZOFFSETTO:-0400
TZNAME:EDT
DTSTART:20270314T070000
END:DAYLIGHT
BEGIN:STANDARD
TZOFFSETFROM:-0400
TZOFFSETTO:-0500
TZNAME:EST
DTSTART:20271107T060000
END:STANDARD
END:VTIMEZONE
BEGIN:VEVENT
DTSTART;TZID=America/New_York:20260424T090000
DTEND;TZID=America/New_York:20260424T180000
DTSTAMP:20260424T062503
CREATED:20260331T162519Z
LAST-MODIFIED:20260331T163531Z
UID:10018967-1777021200-1777053600@buffalo-niagaragardening.com
SUMMARY:Spring bulb special: 25% off at Henry's
DESCRIPTION:You can find a huge selection of gladiolus\, calla lilies and more at Henry’s Gardens\, and get 25 percent off through April! \n\n\n\nHours are 9 a.m. to 6 p.m. Monday through Friday and 9 a.m. to 4 p.m. Saturdays and Sundays.
URL:https://buffalo-niagaragardening.com/event/spring-bulb-special-25-off-at-henrys-2/2026-04-24/
LOCATION:Henry’s Gardens\, 7884 Sisson Hwy.\, Eden\, NY\, 14057\, United States
END:VEVENT
BEGIN:VEVENT
DTSTART;TZID=America/New_York:20260424T100000
DTEND;TZID=America/New_York:20260424T110000
DTSTAMP:20260424T062503
CREATED:20260228T160111Z
LAST-MODIFIED:20260228T160112Z
UID:10018902-1777024800-1777028400@buffalo-niagaragardening.com
SUMMARY:Arbor Day Tree Tour at the Gardens
DESCRIPTION:Celebrate Arbor Day at the Buffalo and Erie County Botanical Gardens and learn about their collection of trees during the annual Tree Tour. Did you know that South Park is a level two arboretum? Join us to learn more about the trees both inside and outside the Botanical Gardens. We will explore tree biodiversity\, basic identification\, and more. This program is rain or shine\, so make sure to dress for the weather! \n\n\n\nFor cost and to reserve your spot go to:  https://www.buffalogardens.com/events/tree-tour/
URL:https://buffalo-niagaragardening.com/event/arbor-day-tree-tour-at-the-gardens/
LOCATION:Buffalo and Erie County Botanical Gardens\, 2655 South Park Avenue\, Buffalo\, New York\, 14218-1526\, United States
CATEGORIES:Garden walk,Guided walk,Nature activities
END:VEVENT
BEGIN:VEVENT
DTSTART;TZID=America/New_York:20260424T100000
DTEND;TZID=America/New_York:20260424T160000
DTSTAMP:20260424T062503
CREATED:20251215T134432Z
LAST-MODIFIED:20251215T134434Z
UID:10018567-1777024800-1777046400@buffalo-niagaragardening.com
SUMMARY:Horticultural Heroes
DESCRIPTION:In the Arcangel Gallery at the Buffalo and Erie County Botanical Gardens you will find an extraordinary collection of diverse and visually striking portraits of Horticultural Heroes. This collection of works pays homage to the groundbreaking contributions of thought leaders in the world of gardening\, botany\, horticulture\, agriculture\, and conservation.  Each portrait masterfully captures the essence of these Horticultural Heroes\, celebrating their tireless commitment to advancing plant knowledge\, fostering community\, fighting injustice\, and championing the preservation of vital ecosystems. \n\n\n\nThe exhibit runs through April 26\, 2026 and is included with the cost of admission. \n\n\n\nFor more information and to purchase your ticket go to: https://www.buffalogardens.com/events/horticultural-heroes/
URL:https://buffalo-niagaragardening.com/event/horticultural-heroes/2026-04-24/
LOCATION:Buffalo and Erie County Botanical Gardens\, 2655 South Park Avenue\, Buffalo\, New York\, 14218-1526\, United States
CATEGORIES:Art & photography,Exhibits
END:VEVENT
BEGIN:VEVENT
DTSTART;TZID=America/New_York:20260424T150000
DTEND;TZID=America/New_York:20260424T160000
DTSTAMP:20260424T062503
CREATED:20260324T001739Z
LAST-MODIFIED:20260324T001740Z
UID:10018922-1777042800-1777046400@buffalo-niagaragardening.com
SUMMARY:Arbor Day lecture on native trees\, shrubs
DESCRIPTION:Friends of the Maud Gordon Holmes Arboretum at Buffalo State will hold an Arbor Day lecture at 3 p.m. Friday\, April 24 in Technology Building\, room 160\, at SUNY Buffalo State University\, 1300 Elmwood Ave.\, Buffalo.  \n\n\n\nGuest speaker Ken Parker will discuss “Native Trees and Shrubs for Western New York Landscapes.” \n\n\n\nIt is free. Email Donald Williams for a parking permit at williada05@buffalostate.edu or 716-878-4030. \n\n\n\nParker\, of Seneca heritage\, is an Indigenous horticulturist\, native plant educator and ecological consultant with more than 30 years of experience in ecological restoration and sustainable landscape design. A lifetime New York State Certified Nursery and Landscape Professional (CNLP)\, he integrates indigenous ecological knowledge with horticultural science to advance resilient\, regionally appropriate landscapes across the United States and Canada.
URL:https://buffalo-niagaragardening.com/event/arbor-day-lecture-on-native-trees-shrubs/
LOCATION:SUNY Buffalo State University\, 1300 Elmwood Avenue\, Buffalo\, New York\, 14222
END:VEVENT
BEGIN:VEVENT
DTSTART;TZID=America/New_York:20260424T170000
DTEND;TZID=America/New_York:20260424T200000
DTSTAMP:20260424T062503
CREATED:20260228T161148Z
LAST-MODIFIED:20260228T161149Z
UID:10018903-1777050000-1777060800@buffalo-niagaragardening.com
SUMMARY:Botanical Artisan Market at the Gardens
DESCRIPTION:Set against the stunning backdrop of the Buffalo and Erie County Botanical Gardens find a vibrant array of vendors featuring one-of-a-kind creations that celebrate nature and artistry.  Enjoy a day of creativity and inspiration as local artisans showcase their unique and botanically inspired jewelry\, art\, crafts\, and more.  \n\n\n\nThere will be live demonstrations and much to see that will make for a delightful day.  Don’t miss this enchanting experience. \n\n\n\nFor more information and to reserve your ticket go to:  https://www.buffalogardens.com/events/botanical-artisan-market/
URL:https://buffalo-niagaragardening.com/event/botanical-artisan-market-at-the-gardens/
LOCATION:Buffalo and Erie County Botanical Gardens\, 2655 South Park Avenue\, Buffalo\, New York\, 14218-1526\, United States
CATEGORIES:Art & photography,Crafts & floral design,Exhibits,Sales
END:VEVENT
END:VCALENDAR