BEGIN:VCALENDAR
VERSION:2.0
PRODID:-//Buffalo-NiagaraGardening.com - ECPv6.15.20//NONSGML v1.0//EN
CALSCALE:GREGORIAN
METHOD:PUBLISH
X-WR-CALNAME:Buffalo-NiagaraGardening.com
X-ORIGINAL-URL:https://buffalo-niagaragardening.com
X-WR-CALDESC:Events for Buffalo-NiagaraGardening.com
REFRESH-INTERVAL;VALUE=DURATION:PT1H
X-Robots-Tag:noindex
X-PUBLISHED-TTL:PT1H
BEGIN:VTIMEZONE
TZID:America/New_York
BEGIN:DAYLIGHT
TZOFFSETFROM:-0500
TZOFFSETTO:-0400
TZNAME:EDT
DTSTART:20250309T070000
END:DAYLIGHT
BEGIN:STANDARD
TZOFFSETFROM:-0400
TZOFFSETTO:-0500
TZNAME:EST
DTSTART:20251102T060000
END:STANDARD
BEGIN:DAYLIGHT
TZOFFSETFROM:-0500
TZOFFSETTO:-0400
TZNAME:EDT
DTSTART:20260308T070000
END:DAYLIGHT
BEGIN:STANDARD
TZOFFSETFROM:-0400
TZOFFSETTO:-0500
TZNAME:EST
DTSTART:20261101T060000
END:STANDARD
BEGIN:DAYLIGHT
TZOFFSETFROM:-0500
TZOFFSETTO:-0400
TZNAME:EDT
DTSTART:20270314T070000
END:DAYLIGHT
BEGIN:STANDARD
TZOFFSETFROM:-0400
TZOFFSETTO:-0500
TZNAME:EST
DTSTART:20271107T060000
END:STANDARD
END:VTIMEZONE
BEGIN:VEVENT
DTSTART;TZID=America/New_York:20260423T000000
DTEND;TZID=America/New_York:20260423T235959
DTSTAMP:20260423T063907
CREATED:20260411T204620Z
LAST-MODIFIED:20260413T171657Z
UID:10019037-1776902400-1776988799@buffalo-niagaragardening.com
SUMMARY:Coming up: 'What Is Wild and Why It Matters'
DESCRIPTION:What Is Wild and Why It Matters will be presented April 28 by Rick Darke\, known for shaping how we think about wildness in managed landscapes. This event is a fundraiser for  Wild Ones and Homegrown National Park; it’s free or pay what you can. \n\n\n\nCan’t make it? A recording will be available. \n\n\n\nRegister here. \n\n\n\nRick Darke is an award-winning landscape designer\, author\, photographer\, and educator. His work bridges ecology\, cultural geography and aesthetics\, showing that residential landscapes can be biologically rich and visually compelling at the same time. \n\n\n\nDarke has collaborated with leading ecological thinkers\, including Douglas Tallamy\, and co-authored influential books such as The Living Landscape\, The Wild Garden: Expanded Edition\, and Gardens of the High Line: Elevating the Nature of Modern Landscapes. His now-classic book\, The American Woodland Garden\, was among the first to employ firsthand studies of wild habitats to provide landscape design and management strategies grounded in living processes. \n\n\n\nThrough decades of design\, writing\, and teaching\, Darke has advanced the idea that wilderness need not be something separate from our daily lives\, but is instead essential to connecting us with the extraordinarily interwoven web of life we call nature.
URL:https://buffalo-niagaragardening.com/event/live-webinar-what-is-wild-and-why-it-matters/
LOCATION:New York
CATEGORIES:Talks & presentations
END:VEVENT
BEGIN:VEVENT
DTSTART;TZID=America/New_York:20260423T090000
DTEND;TZID=America/New_York:20260423T180000
DTSTAMP:20260423T063907
CREATED:20260331T162519Z
LAST-MODIFIED:20260331T163531Z
UID:10018966-1776934800-1776967200@buffalo-niagaragardening.com
SUMMARY:Spring bulb special: 25% off at Henry's
DESCRIPTION:You can find a huge selection of gladiolus\, calla lilies and more at Henry’s Gardens\, and get 25 percent off through April! \n\n\n\nHours are 9 a.m. to 6 p.m. Monday through Friday and 9 a.m. to 4 p.m. Saturdays and Sundays.
URL:https://buffalo-niagaragardening.com/event/spring-bulb-special-25-off-at-henrys-2/2026-04-23/
LOCATION:Henry’s Gardens\, 7884 Sisson Hwy.\, Eden\, NY\, 14057\, United States
END:VEVENT
BEGIN:VEVENT
DTSTART;TZID=America/New_York:20260423T100000
DTEND;TZID=America/New_York:20260423T160000
DTSTAMP:20260423T063907
CREATED:20251215T134432Z
LAST-MODIFIED:20251215T134434Z
UID:10018566-1776938400-1776960000@buffalo-niagaragardening.com
SUMMARY:Horticultural Heroes
DESCRIPTION:In the Arcangel Gallery at the Buffalo and Erie County Botanical Gardens you will find an extraordinary collection of diverse and visually striking portraits of Horticultural Heroes. This collection of works pays homage to the groundbreaking contributions of thought leaders in the world of gardening\, botany\, horticulture\, agriculture\, and conservation.  Each portrait masterfully captures the essence of these Horticultural Heroes\, celebrating their tireless commitment to advancing plant knowledge\, fostering community\, fighting injustice\, and championing the preservation of vital ecosystems. \n\n\n\nThe exhibit runs through April 26\, 2026 and is included with the cost of admission. \n\n\n\nFor more information and to purchase your ticket go to: https://www.buffalogardens.com/events/horticultural-heroes/
URL:https://buffalo-niagaragardening.com/event/horticultural-heroes/2026-04-23/
LOCATION:Buffalo and Erie County Botanical Gardens\, 2655 South Park Avenue\, Buffalo\, New York\, 14218-1526\, United States
CATEGORIES:Art & photography,Exhibits
END:VEVENT
BEGIN:VEVENT
DTSTART;TZID=America/New_York:20260423T173000
DTEND;TZID=America/New_York:20260423T193000
DTSTAMP:20260423T063907
CREATED:20260404T163327Z
LAST-MODIFIED:20260404T163328Z
UID:10018995-1776965400-1776972600@buffalo-niagaragardening.com
SUMMARY:Bartending for a Cause
DESCRIPTION:Once this infernal cold finally departs\, Executive Director Darren and Board Chair Melanie will be slinging drinks at The West Side Bazaar on 1432 Niagara street on April 23rd from 5:30-7:30pm. Come out\, learn about The Tool Library and support a good cause. \n\n\n\nFor more information go to:  https://thetoollibrary.org/event/bartending-for-a-cause/
URL:https://buffalo-niagaragardening.com/event/bartending-for-a-cause/
LOCATION:Downtown Bazaar\, 617 Main Rd.\, Buffalo\, New York\, 14203
CATEGORIES:Fundraisers,Volunteer opportunity
END:VEVENT
BEGIN:VEVENT
DTSTART;TZID=America/New_York:20260423T173000
DTEND;TZID=America/New_York:20260423T203000
DTSTAMP:20260423T063907
CREATED:20260228T155442Z
LAST-MODIFIED:20260228T155444Z
UID:10018901-1776965400-1776976200@buffalo-niagaragardening.com
SUMMARY:Make Your Mark: Textile Art Series at the Gardens
DESCRIPTION:Calling all quilters\, scrapbookers\, collage artists\, embroiderers and all-around explorers\, this workshop at the Buffalo and Erie County Botanical Gardens is for you. Learn a variety of printing methods and then explore layering methods and motifs to create your own unique fabric samples. Printing methods include: mono printing; screen printing; block printing; stenciling; and hand painting. \n\n\n\nMake your Mark and the rest of the Textile Art Series are presented by our friends from Stitch Buffalo! Save money when you sign up for all four workshops! \n\n\n\nFor cost\, more information and to reserve your spot go to:  https://www.buffalogardens.com/events/make-your-mark/
URL:https://buffalo-niagaragardening.com/event/make-your-mark-textile-art-series-at-the-gardens/
LOCATION:Buffalo and Erie County Botanical Gardens\, 2655 South Park Avenue\, Buffalo\, New York\, 14218-1526\, United States
CATEGORIES:Classes,Hands-on workshop
END:VEVENT
END:VCALENDAR