BEGIN:VCALENDAR
VERSION:2.0
PRODID:-//Buffalo-NiagaraGardening.com - ECPv6.15.20//NONSGML v1.0//EN
CALSCALE:GREGORIAN
METHOD:PUBLISH
X-WR-CALNAME:Buffalo-NiagaraGardening.com
X-ORIGINAL-URL:https://buffalo-niagaragardening.com
X-WR-CALDESC:Events for Buffalo-NiagaraGardening.com
REFRESH-INTERVAL;VALUE=DURATION:PT1H
X-Robots-Tag:noindex
X-PUBLISHED-TTL:PT1H
BEGIN:VTIMEZONE
TZID:America/New_York
BEGIN:DAYLIGHT
TZOFFSETFROM:-0500
TZOFFSETTO:-0400
TZNAME:EDT
DTSTART:20250309T070000
END:DAYLIGHT
BEGIN:STANDARD
TZOFFSETFROM:-0400
TZOFFSETTO:-0500
TZNAME:EST
DTSTART:20251102T060000
END:STANDARD
BEGIN:DAYLIGHT
TZOFFSETFROM:-0500
TZOFFSETTO:-0400
TZNAME:EDT
DTSTART:20260308T070000
END:DAYLIGHT
BEGIN:STANDARD
TZOFFSETFROM:-0400
TZOFFSETTO:-0500
TZNAME:EST
DTSTART:20261101T060000
END:STANDARD
BEGIN:DAYLIGHT
TZOFFSETFROM:-0500
TZOFFSETTO:-0400
TZNAME:EDT
DTSTART:20270314T070000
END:DAYLIGHT
BEGIN:STANDARD
TZOFFSETFROM:-0400
TZOFFSETTO:-0500
TZNAME:EST
DTSTART:20271107T060000
END:STANDARD
END:VTIMEZONE
BEGIN:VEVENT
DTSTART;TZID=America/New_York:20260422T090000
DTEND;TZID=America/New_York:20260422T120000
DTSTAMP:20260422T015410
CREATED:20260414T155101Z
LAST-MODIFIED:20260414T155148Z
UID:10019043-1776848400-1776859200@buffalo-niagaragardening.com
SUMMARY:TNA Earth Day in Action
DESCRIPTION:Join the East Side Stewards in celebrating the earth.  Help beautify the Trinidad neighborhood from 9 a.m. to noon on Wednesday\, April 22 at 40-22 Trinidad Place\, Buffalo 14214. \n\n\n\nEast Side Stewards aims to restore the environmental and social health of an area that has long faced systemic disinvestment and ecological degradation through centering environmental justice\, economic prosperity\, urban agriculture\, land stewardship\, and community empowerment. \n\n\n\nTo volunteer Sign up here.
URL:https://buffalo-niagaragardening.com/event/tna-earth-day-in-action/
LOCATION:40-22 Trinidad Place\, Buffalo\, 14214
CATEGORIES:Nature activities,Volunteer opportunity
END:VEVENT
BEGIN:VEVENT
DTSTART;TZID=America/New_York:20260422T090000
DTEND;TZID=America/New_York:20260422T180000
DTSTAMP:20260422T015410
CREATED:20260331T162519Z
LAST-MODIFIED:20260331T163531Z
UID:10018965-1776848400-1776880800@buffalo-niagaragardening.com
SUMMARY:Spring bulb special: 25% off at Henry's
DESCRIPTION:You can find a huge selection of gladiolus\, calla lilies and more at Henry’s Gardens\, and get 25 percent off through April! \n\n\n\nHours are 9 a.m. to 6 p.m. Monday through Friday and 9 a.m. to 4 p.m. Saturdays and Sundays.
URL:https://buffalo-niagaragardening.com/event/spring-bulb-special-25-off-at-henrys-2/2026-04-22/
LOCATION:Henry’s Gardens\, 7884 Sisson Hwy.\, Eden\, NY\, 14057\, United States
END:VEVENT
BEGIN:VEVENT
DTSTART;TZID=America/New_York:20260422T100000
DTEND;TZID=America/New_York:20260422T160000
DTSTAMP:20260422T015410
CREATED:20251215T134432Z
LAST-MODIFIED:20251215T134434Z
UID:10018565-1776852000-1776873600@buffalo-niagaragardening.com
SUMMARY:Horticultural Heroes
DESCRIPTION:In the Arcangel Gallery at the Buffalo and Erie County Botanical Gardens you will find an extraordinary collection of diverse and visually striking portraits of Horticultural Heroes. This collection of works pays homage to the groundbreaking contributions of thought leaders in the world of gardening\, botany\, horticulture\, agriculture\, and conservation.  Each portrait masterfully captures the essence of these Horticultural Heroes\, celebrating their tireless commitment to advancing plant knowledge\, fostering community\, fighting injustice\, and championing the preservation of vital ecosystems. \n\n\n\nThe exhibit runs through April 26\, 2026 and is included with the cost of admission. \n\n\n\nFor more information and to purchase your ticket go to: https://www.buffalogardens.com/events/horticultural-heroes/
URL:https://buffalo-niagaragardening.com/event/horticultural-heroes/2026-04-22/
LOCATION:Buffalo and Erie County Botanical Gardens\, 2655 South Park Avenue\, Buffalo\, New York\, 14218-1526\, United States
CATEGORIES:Art & photography,Exhibits
END:VEVENT
BEGIN:VEVENT
DTSTART;TZID=America/New_York:20260422T100000
DTEND;TZID=America/New_York:20260422T200000
DTSTAMP:20260422T015410
CREATED:20260111T194722Z
LAST-MODIFIED:20260228T154146Z
UID:10018900-1776852000-1776888000@buffalo-niagaragardening.com
SUMMARY:Unwind Wednesdays at the Gardens
DESCRIPTION:We all know that the hustle and bustle of our day-to-day lives can be stressful and tiring\, which is exactly why the Buffalo and Erie County Botanical Gardens is inviting you to Unwind Wednesdays. Join them on the third Wednesday of each month as they stay open until 8pm to give you the opportunity to unplug in a quiet oasis. Read a book\, write a journal entry\, listen to music\, sketch\, meditate\, or just rest in the peaceful embrace of the conservatory. \n\n\n\nIn addition to these late hours\, there are also savings; admission on Unwind Wednesdays is only $10 all day long from 10am-8pm. Limited seating will be available for you to plant yourself wherever you’d like inside the greenhouses. This “middle of the week” break is a perfect way to unwind and retreat from reality. \n\n\n\nFor more information and to reserve your spot go to: https://www.buffalogardens.com/events/unwind-wednesdays/event/2025-08-20/
URL:https://buffalo-niagaragardening.com/event/unwind-wednesdays-at-the-gardens/2026-04-22/
LOCATION:Buffalo and Erie County Botanical Gardens\, 2655 South Park Avenue\, Buffalo\, New York\, 14218-1526\, United States
CATEGORIES:Exhibits,Nature activities
END:VEVENT
BEGIN:VEVENT
DTSTART;TZID=America/New_York:20260422T110000
DTEND;TZID=America/New_York:20260422T130000
DTSTAMP:20260422T015410
CREATED:20260406T195150Z
LAST-MODIFIED:20260406T195642Z
UID:10019003-1776855600-1776862800@buffalo-niagaragardening.com
SUMMARY:Earth Day clean-up at Pfeiffer Nature Center (Lillibridge)
DESCRIPTION:Celebrate Earth Day by helping care for the natural spaces at Pfeiffer Nature Center. \n\n\n\nVolunteers are invited to assist with cleaning up the property and supporting conservation efforts in the local community. \n\n\n\nThis is a great opportunity to: \n\n\n\n\nGive back to the environment\n\n\n\nSpend time outdoors\n\n\n\nSupport local conservation efforts\n\n\n\nConnect with others in the community\n\n\n\n\nApril 22\, 2026 \n\n\n\n11:00 AM – 1:00 PM \n\n\n\nPfeiffer Nature Center – Lillibridge Property1974 Lillibridge RdPortville\, NY 14770
URL:https://buffalo-niagaragardening.com/event/earth-day-clean-up-at-pfeiffer-nature-center/
LOCATION:Pfeiffer Nature Center (Lillibridge location)\, 1974 Lillibridge Road\, Portville\, New York\, 14770\, United States
CATEGORIES:Volunteer opportunity
END:VEVENT
BEGIN:VEVENT
DTSTART;TZID=America/New_York:20260422T120000
DTEND;TZID=America/New_York:20260422T160000
DTSTAMP:20260422T015410
CREATED:20260403T000411Z
LAST-MODIFIED:20260414T125609Z
UID:10018979-1776859200-1776873600@buffalo-niagaragardening.com
SUMMARY:WNY Land Conservancy: volunteer on Earth Day
DESCRIPTION:The Western New York Land Conservancy is looking for volunteers for cleanup for Earth Day at Floating Fen Preserve\, Stockton. \n\n\n\nCelebrate Earth Day by helping one of Western New York’s unique natural areas. Volunteers will remove roadside litter and\, time permitting\, help clear and prepare trails for the upcoming hiking season. \n\n\n\nRegistration is required.
URL:https://buffalo-niagaragardening.com/event/wny-land-conservancy-volunteer-on-earth-day/
LOCATION:New York
CATEGORIES:Volunteer opportunity
END:VEVENT
BEGIN:VEVENT
DTSTART;TZID=America/New_York:20260422T140000
DTEND;TZID=America/New_York:20260422T160000
DTSTAMP:20260422T015410
CREATED:20260406T200242Z
LAST-MODIFIED:20260406T200243Z
UID:10019004-1776866400-1776873600@buffalo-niagaragardening.com
SUMMARY:Earth Day clean-up at Pfeiffer Nature Center (Eshelman)
DESCRIPTION:Celebrate Earth Day by helping care for the natural spaces at Pfeiffer Nature Center. \n\n\n\nVolunteers are invited to assist with cleaning up the property and supporting conservation efforts in the local community. \n\n\n\nThis is a great opportunity to: \n\n\n\n\nGive back to the environment\n\n\n\nSpend time outdoors\n\n\n\nSupport local conservation efforts\n\n\n\nConnect with others in the community\n\n\n\n\nApril 22\, 2026 \n\n\n\n 2:00 PM – 4:00 PM \n\n\n\nPfeiffer Nature Center – Eshelman Property1420 Yubadam RdPortville\, NY14770
URL:https://buffalo-niagaragardening.com/event/earth-day-clean-up-at-pfeiffer-nature-center-eshelman/
LOCATION:Pfeiffer Nature Center – Eshelman Property\, 1420 Yubadam Rd.\, Portville\, New York\, 14770\, United States
CATEGORIES:Volunteer opportunity
END:VEVENT
BEGIN:VEVENT
DTSTART;TZID=America/New_York:20260422T180000
DTEND;TZID=America/New_York:20260422T200000
DTSTAMP:20260422T015410
CREATED:20260404T160359Z
LAST-MODIFIED:20260404T160400Z
UID:10018991-1776880800-1776888000@buffalo-niagaragardening.com
SUMMARY:Free intro to canning in Albion
DESCRIPTION:Intro to Canning and Food Preservation \n\n\n\nFREE!  \n\n\n\nMaster Food Preserver volunteers will lead this informational class\, teaching all about the equipment\, resources\, tips and tricks to get started canning. Take your curiosity and your questions.  \n\n\n\nClass will be held in the Harrington Classroom of the Orleans CCE Education Building.  \n\n\n\nPre-registration is encouraged by calling 585-798-4265 ext 125 or emailing klo54@cornell.edu.
URL:https://buffalo-niagaragardening.com/event/free-intro-to-canning-in-albion/
LOCATION:Cornell Cooperative Extension Orleans County\, 12690 State Route 31\, Albion\, New York\, 14411
CATEGORIES:Talks & presentations
END:VEVENT
END:VCALENDAR